Package: covRNA Version: 1.32.0 Command: chmod a+r covRNA -R && F:\biocbuild\bbs-3.20-bioc\R\bin\R.exe CMD build --keep-empty-dirs --no-resave-data covRNA StartedAt: 2025-01-27 18:11:50 -0500 (Mon, 27 Jan 2025) EndedAt: 2025-01-27 18:12:59 -0500 (Mon, 27 Jan 2025) EllapsedTime: 69.1 seconds RetCode: 0 Status: OK PackageFile: covRNA_1.32.0.tar.gz PackageFileSize: 519.6 KiB