Package: covRNA Version: 1.32.0 Command: /home/biocbuild/bbs-3.20-bioc/R/bin/R CMD INSTALL covRNA StartedAt: 2025-01-27 16:35:02 -0500 (Mon, 27 Jan 2025) EndedAt: 2025-01-27 16:35:23 -0500 (Mon, 27 Jan 2025) EllapsedTime: 21.0 seconds RetCode: 0 Status: OK