Package: covRNA Version: 1.32.0 Command: /Library/Frameworks/R.framework/Resources/bin/R CMD build --keep-empty-dirs --no-resave-data covRNA StartedAt: 2025-01-27 18:09:15 -0500 (Mon, 27 Jan 2025) EndedAt: 2025-01-27 18:11:22 -0500 (Mon, 27 Jan 2025) EllapsedTime: 127.1 seconds RetCode: 0 Status: OK PackageFile: covRNA_1.32.0.tar.gz PackageFileSize: 556 KiB