Package: covEB Version: 1.32.0 Command: rm -rf covEB.buildbin-libdir && mkdir covEB.buildbin-libdir && F:\biocbuild\bbs-3.20-bioc\R\bin\R.exe CMD INSTALL --build --library=covEB.buildbin-libdir covEB_1.32.0.tar.gz StartedAt: 2025-02-04 08:16:54 -0500 (Tue, 04 Feb 2025) EndedAt: 2025-02-04 08:17:05 -0500 (Tue, 04 Feb 2025) EllapsedTime: 10.5 seconds RetCode: 0 Status: OK PackageFile: covEB_1.32.0.zip PackageFileSize: 95.72 KiB