Package: covEB Version: 1.32.0 Command: /Library/Frameworks/R.framework/Resources/bin/R CMD build --keep-empty-dirs --no-resave-data covEB StartedAt: 2025-03-31 21:28:50 -0400 (Mon, 31 Mar 2025) EndedAt: 2025-03-31 21:29:14 -0400 (Mon, 31 Mar 2025) EllapsedTime: 24.4 seconds RetCode: 0 Status: OK PackageFile: covEB_1.32.0.tar.gz PackageFileSize: 114.8 KiB