Package: cosmosR Version: 1.14.0 Command: /home/biocbuild/bbs-3.20-bioc/R/bin/R CMD INSTALL cosmosR StartedAt: 2025-01-27 16:23:40 -0500 (Mon, 27 Jan 2025) EndedAt: 2025-01-27 16:23:49 -0500 (Mon, 27 Jan 2025) EllapsedTime: 8.7 seconds RetCode: 0 Status: OK