Package: cosmosR Version: 1.14.0 Command: rm -rf cosmosR.buildbin-libdir && mkdir cosmosR.buildbin-libdir && /Users/biocbuild/BBS/utils/build-universal.sh cosmosR_1.14.0.tar.gz /Library/Frameworks/R.framework/Resources/bin/R cosmosR.buildbin-libdir StartedAt: 2025-02-05 15:23:20 -0500 (Wed, 05 Feb 2025) EndedAt: 2025-02-05 15:23:31 -0500 (Wed, 05 Feb 2025) EllapsedTime: 11.4 seconds RetCode: 0 Status: OK PackageFile: cosmosR_1.14.0.tgz PackageFileSize: 3.45 MiB