Package: cosmiq Version: 1.40.0 Command: /Library/Frameworks/R.framework/Resources/bin/R CMD check --install=check:cosmiq.install-out.txt --library=/Library/Frameworks/R.framework/Resources/library --no-vignettes --timings cosmiq_1.40.0.tar.gz StartedAt: 2025-01-28 15:30:08 -0500 (Tue, 28 Jan 2025) EndedAt: 2025-01-28 15:36:01 -0500 (Tue, 28 Jan 2025) EllapsedTime: 353.7 seconds RetCode: 0 Status: OK CheckDir: cosmiq.Rcheck Warnings: 0