Package: cosmiq Version: 1.40.0 Command: rm -rf cosmiq.buildbin-libdir && mkdir cosmiq.buildbin-libdir && /Users/biocbuild/BBS/utils/build-universal.sh cosmiq_1.40.0.tar.gz /Library/Frameworks/R.framework/Resources/bin/R cosmiq.buildbin-libdir StartedAt: 2025-01-29 14:11:58 -0500 (Wed, 29 Jan 2025) EndedAt: 2025-01-29 14:12:50 -0500 (Wed, 29 Jan 2025) EllapsedTime: 52.1 seconds RetCode: 0 Status: OK PackageFile: cosmiq_1.40.0.tgz PackageFileSize: 291 KiB