Package: coseq Version: 1.30.0 Command: /home/biocbuild/R/R/bin/R CMD INSTALL coseq StartedAt: 2025-01-30 20:48:15 -0000 (Thu, 30 Jan 2025) EndedAt: 2025-01-30 20:48:53 -0000 (Thu, 30 Jan 2025) EllapsedTime: 38.0 seconds RetCode: 0 Status: OK