Package: corral Version: 1.16.0 Command: /home/biocbuild/bbs-3.20-bioc/R/bin/R CMD check --install=check:corral.install-out.txt --library=/home/biocbuild/bbs-3.20-bioc/R/site-library --timings corral_1.16.0.tar.gz StartedAt: 2025-03-31 21:05:09 -0400 (Mon, 31 Mar 2025) EndedAt: 2025-03-31 21:23:34 -0400 (Mon, 31 Mar 2025) EllapsedTime: 1105.1 seconds RetCode: 0 Status: OK CheckDir: corral.Rcheck Warnings: 0