Package: corral Version: 1.16.0 Command: /home/biocbuild/bbs-3.20-bioc/R/bin/R CMD build --keep-empty-dirs --no-resave-data --md5 corral StartedAt: 2025-01-27 17:44:35 -0500 (Mon, 27 Jan 2025) EndedAt: 2025-01-27 17:56:55 -0500 (Mon, 27 Jan 2025) EllapsedTime: 739.8 seconds RetCode: 0 Status: OK PackageFile: corral_1.16.0.tar.gz PackageFileSize: 2.013 MiB