Package: corral Version: 1.16.0 Command: rm -rf corral.buildbin-libdir && mkdir corral.buildbin-libdir && /Users/biocbuild/BBS/utils/build-universal.sh corral_1.16.0.tar.gz /Library/Frameworks/R.framework/Resources/bin/R corral.buildbin-libdir StartedAt: 2025-02-05 15:22:45 -0500 (Wed, 05 Feb 2025) EndedAt: 2025-02-05 15:23:20 -0500 (Wed, 05 Feb 2025) EllapsedTime: 35.1 seconds RetCode: 0 Status: OK PackageFile: corral_1.16.0.tgz PackageFileSize: 1.799 MiB