Package: copa Version: 1.74.0 Command: /home/biocbuild/R/R/bin/R CMD INSTALL copa StartedAt: 2025-02-03 20:22:41 -0000 (Mon, 03 Feb 2025) EndedAt: 2025-02-03 20:23:15 -0000 (Mon, 03 Feb 2025) EllapsedTime: 34.0 seconds RetCode: 0 Status: OK