Package: copa Version: 1.74.0 Command: /home/biocbuild/R/R/bin/R CMD check --install=check:copa.install-out.txt --library=/home/biocbuild/R/R/site-library --no-vignettes --timings copa_1.74.0.tar.gz StartedAt: 2025-01-28 06:03:04 -0000 (Tue, 28 Jan 2025) EndedAt: 2025-01-28 06:03:34 -0000 (Tue, 28 Jan 2025) EllapsedTime: 30.0 seconds RetCode: 0 Status: OK CheckDir: copa.Rcheck Warnings: 0