Package: copa Version: 1.74.0 Command: chmod a+r copa -R && F:\biocbuild\bbs-3.20-bioc\R\bin\R.exe CMD build --keep-empty-dirs --no-resave-data copa StartedAt: 2025-01-27 18:09:50 -0500 (Mon, 27 Jan 2025) EndedAt: 2025-01-27 18:10:08 -0500 (Mon, 27 Jan 2025) EllapsedTime: 17.4 seconds RetCode: 0 Status: OK PackageFile: copa_1.74.0.tar.gz PackageFileSize: 121.4 KiB