Package: copa Version: 1.74.0 Command: rm -rf copa.buildbin-libdir && mkdir copa.buildbin-libdir && F:\biocbuild\bbs-3.20-bioc\R\bin\R.exe CMD INSTALL --build --library=copa.buildbin-libdir copa_1.74.0.tar.gz StartedAt: 2025-01-28 07:55:34 -0500 (Tue, 28 Jan 2025) EndedAt: 2025-01-28 07:55:45 -0500 (Tue, 28 Jan 2025) EllapsedTime: 10.7 seconds RetCode: 0 Status: OK PackageFile: copa_1.74.0.zip PackageFileSize: 166.8 KiB