Package: copa Version: 1.74.0 Command: /home/biocbuild/bbs-3.20-bioc/R/bin/R CMD INSTALL copa StartedAt: 2025-01-27 15:57:22 -0500 (Mon, 27 Jan 2025) EndedAt: 2025-01-27 15:57:38 -0500 (Mon, 27 Jan 2025) EllapsedTime: 16.2 seconds RetCode: 0 Status: OK