Package: copa Version: 1.74.0 Command: /Library/Frameworks/R.framework/Resources/bin/R CMD INSTALL copa StartedAt: 2025-01-27 15:06:36 -0500 (Mon, 27 Jan 2025) EndedAt: 2025-01-27 15:06:44 -0500 (Mon, 27 Jan 2025) EllapsedTime: 7.2 seconds RetCode: 0 Status: OK