Package: copa Version: 1.74.0 Command: rm -rf copa.buildbin-libdir && mkdir copa.buildbin-libdir && /Users/biocbuild/BBS/utils/build-universal.sh copa_1.74.0.tar.gz /Library/Frameworks/R.framework/Resources/bin/R copa.buildbin-libdir StartedAt: 2025-01-29 14:11:11 -0500 (Wed, 29 Jan 2025) EndedAt: 2025-01-29 14:11:16 -0500 (Wed, 29 Jan 2025) EllapsedTime: 5.6 seconds RetCode: 0 Status: OK PackageFile: copa_1.74.0.tgz PackageFileSize: 159 KiB