Package: convert Version: 1.82.0 Command: F:\biocbuild\bbs-3.20-bioc\R\bin\R.exe CMD check --no-multiarch --install=check:convert.install-out.txt --library=F:\biocbuild\bbs-3.20-bioc\R\library --no-vignettes --timings convert_1.82.0.tar.gz StartedAt: 2025-02-11 00:31:54 -0500 (Tue, 11 Feb 2025) EndedAt: 2025-02-11 00:32:35 -0500 (Tue, 11 Feb 2025) EllapsedTime: 41.1 seconds RetCode: 0 Status: OK CheckDir: convert.Rcheck Warnings: 0