Package: convert Version: 1.82.0 Command: /home/biocbuild/bbs-3.20-bioc/R/bin/R CMD build --keep-empty-dirs --no-resave-data --md5 convert StartedAt: 2025-02-10 16:50:38 -0500 (Mon, 10 Feb 2025) EndedAt: 2025-02-10 16:50:44 -0500 (Mon, 10 Feb 2025) EllapsedTime: 6.0 seconds RetCode: 0 Status: OK PackageFile: convert_1.82.0.tar.gz PackageFileSize: 137.2 KiB