Package: convert Version: 1.82.0 Command: /Library/Frameworks/R.framework/Resources/bin/R CMD build --keep-empty-dirs --no-resave-data convert StartedAt: 2025-02-10 21:33:45 -0500 (Mon, 10 Feb 2025) EndedAt: 2025-02-10 21:33:55 -0500 (Mon, 10 Feb 2025) EllapsedTime: 10.1 seconds RetCode: 0 Status: OK PackageFile: convert_1.82.0.tar.gz PackageFileSize: 136.7 KiB