Package: conumee Version: 1.40.0 Command: /home/biocbuild/bbs-3.20-bioc/R/bin/R CMD check --install=check:conumee.install-out.txt --library=/home/biocbuild/bbs-3.20-bioc/R/site-library --timings conumee_1.40.0.tar.gz StartedAt: 2025-01-27 22:00:16 -0500 (Mon, 27 Jan 2025) EndedAt: 2025-01-27 22:23:50 -0500 (Mon, 27 Jan 2025) EllapsedTime: 1414.4 seconds RetCode: 0 Status: OK CheckDir: conumee.Rcheck Warnings: 0