Package: conumee Version: 1.40.0 Command: /Library/Frameworks/R.framework/Resources/bin/R CMD INSTALL conumee StartedAt: 2025-02-03 16:43:31 -0500 (Mon, 03 Feb 2025) EndedAt: 2025-02-03 16:48:57 -0500 (Mon, 03 Feb 2025) EllapsedTime: 326.0 seconds RetCode: 0 Status: OK