Package: consensusSeekeR Version: 1.34.0 Command: /home/biocbuild/R/R/bin/R CMD build --keep-empty-dirs --no-resave-data consensusSeekeR StartedAt: 2025-03-31 22:43:23 -0000 (Mon, 31 Mar 2025) EndedAt: 2025-03-31 22:44:22 -0000 (Mon, 31 Mar 2025) EllapsedTime: 59.0 seconds RetCode: 0 Status: OK PackageFile: consensusSeekeR_1.34.0.tar.gz PackageFileSize: 763.5 KiB