Package: consensusSeekeR Version: 1.34.0 Command: /home/biocbuild/bbs-3.20-bioc/R/bin/R CMD build --keep-empty-dirs --no-resave-data --md5 consensusSeekeR StartedAt: 2025-03-31 16:47:35 -0400 (Mon, 31 Mar 2025) EndedAt: 2025-03-31 16:49:19 -0400 (Mon, 31 Mar 2025) EllapsedTime: 104.1 seconds RetCode: 0 Status: OK PackageFile: consensusSeekeR_1.34.0.tar.gz PackageFileSize: 742 KiB