Package: consensusSeekeR Version: 1.34.0 Command: rm -rf consensusSeekeR.buildbin-libdir && mkdir consensusSeekeR.buildbin-libdir && /Users/biocbuild/BBS/utils/build-universal.sh consensusSeekeR_1.34.0.tar.gz /Library/Frameworks/R.framework/Resources/bin/R consensusSeekeR.buildbin-libdir StartedAt: 2025-04-01 11:39:41 -0400 (Tue, 01 Apr 2025) EndedAt: 2025-04-01 11:40:45 -0400 (Tue, 01 Apr 2025) EllapsedTime: 63.5 seconds RetCode: 0 Status: OK PackageFile: consensusSeekeR_1.34.0.tgz PackageFileSize: 615 KiB