Package: consensusDE Version: 1.24.0 Command: /home/biocbuild/R/R/bin/R CMD INSTALL consensusDE StartedAt: 2025-01-30 20:36:17 -0000 (Thu, 30 Jan 2025) EndedAt: 2025-01-30 20:37:13 -0000 (Thu, 30 Jan 2025) EllapsedTime: 55.3 seconds RetCode: 0 Status: OK