Package: consensusDE Version: 1.24.0 Command: /home/biocbuild/R/R/bin/R CMD check --install=check:consensusDE.install-out.txt --library=/home/biocbuild/R/R/site-library --no-vignettes --timings consensusDE_1.24.0.tar.gz StartedAt: 2025-01-31 05:09:46 -0000 (Fri, 31 Jan 2025) EndedAt: 2025-01-31 05:16:07 -0000 (Fri, 31 Jan 2025) EllapsedTime: 381.3 seconds RetCode: 0 Status: OK CheckDir: consensusDE.Rcheck Warnings: 0