Package: consensusDE Version: 1.24.0 Command: F:\biocbuild\bbs-3.20-bioc\R\bin\R.exe CMD INSTALL consensusDE StartedAt: 2025-03-31 16:28:29 -0400 (Mon, 31 Mar 2025) EndedAt: 2025-03-31 16:29:28 -0400 (Mon, 31 Mar 2025) EllapsedTime: 58.9 seconds RetCode: 0 Status: OK