Package: consensusDE Version: 1.24.0 Command: rm -rf consensusDE.buildbin-libdir && mkdir consensusDE.buildbin-libdir && F:\biocbuild\bbs-3.20-bioc\R\bin\R.exe CMD INSTALL --build --library=consensusDE.buildbin-libdir consensusDE_1.24.0.tar.gz StartedAt: 2025-04-01 07:57:54 -0400 (Tue, 01 Apr 2025) EndedAt: 2025-04-01 07:58:48 -0400 (Tue, 01 Apr 2025) EllapsedTime: 53.8 seconds RetCode: 0 Status: OK PackageFile: consensusDE_1.24.0.zip PackageFileSize: 551.6 KiB