Package: consensusDE Version: 1.24.0 Command: rm -rf consensusDE.buildbin-libdir && mkdir consensusDE.buildbin-libdir && /Users/biocbuild/BBS/utils/build-universal.sh consensusDE_1.24.0.tar.gz /Library/Frameworks/R.framework/Resources/bin/R consensusDE.buildbin-libdir StartedAt: 2025-02-01 14:26:25 -0500 (Sat, 01 Feb 2025) EndedAt: 2025-02-01 14:27:23 -0500 (Sat, 01 Feb 2025) EllapsedTime: 58.5 seconds RetCode: 0 Status: OK PackageFile: consensusDE_1.24.0.tgz PackageFileSize: 1.116 MiB