Package: consensus Version: 1.24.0 Command: /home/biocbuild/R/R/bin/R CMD build --keep-empty-dirs --no-resave-data consensus StartedAt: 2025-03-31 22:43:14 -0000 (Mon, 31 Mar 2025) EndedAt: 2025-03-31 22:43:21 -0000 (Mon, 31 Mar 2025) EllapsedTime: 7.0 seconds RetCode: 0 Status: OK PackageFile: consensus_1.24.0.tar.gz PackageFileSize: 964.1 KiB