Package: consensus Version: 1.24.0 Command: F:\biocbuild\bbs-3.20-bioc\R\bin\R.exe CMD INSTALL consensus StartedAt: 2025-01-30 15:25:38 -0500 (Thu, 30 Jan 2025) EndedAt: 2025-01-30 15:25:54 -0500 (Thu, 30 Jan 2025) EllapsedTime: 16.0 seconds RetCode: 0 Status: OK