Package: consensus Version: 1.24.0 Command: rm -rf consensus.buildbin-libdir && mkdir consensus.buildbin-libdir && F:\biocbuild\bbs-3.20-bioc\R\bin\R.exe CMD INSTALL --build --library=consensus.buildbin-libdir consensus_1.24.0.tar.gz StartedAt: 2025-01-31 08:25:54 -0500 (Fri, 31 Jan 2025) EndedAt: 2025-01-31 08:26:10 -0500 (Fri, 31 Jan 2025) EllapsedTime: 16.1 seconds RetCode: 0 Status: OK PackageFile: consensus_1.24.0.zip PackageFileSize: 1.099 MiB