Package: consICA Version: 2.4.0 Command: /home/biocbuild/R/R/bin/R CMD check --install=check:consICA.install-out.txt --library=/home/biocbuild/R/R/site-library --no-vignettes --timings consICA_2.4.0.tar.gz StartedAt: 2025-02-04 05:53:52 -0000 (Tue, 04 Feb 2025) EndedAt: 2025-02-04 06:07:57 -0000 (Tue, 04 Feb 2025) EllapsedTime: 844.7 seconds RetCode: 0 Status: OK CheckDir: consICA.Rcheck Warnings: 0