Package: consICA Version: 2.4.0 Command: chmod a+r consICA -R && F:\biocbuild\bbs-3.20-bioc\R\bin\R.exe CMD build --keep-empty-dirs --no-resave-data consICA StartedAt: 2025-01-27 18:09:28 -0500 (Mon, 27 Jan 2025) EndedAt: 2025-01-27 18:11:24 -0500 (Mon, 27 Jan 2025) EllapsedTime: 115.8 seconds RetCode: 0 Status: OK PackageFile: consICA_2.4.0.tar.gz PackageFileSize: 3.206 MiB