Package: consICA Version: 2.4.0 Command: rm -rf consICA.buildbin-libdir && mkdir consICA.buildbin-libdir && F:\biocbuild\bbs-3.20-bioc\R\bin\R.exe CMD INSTALL --build --library=consICA.buildbin-libdir consICA_2.4.0.tar.gz StartedAt: 2025-02-04 08:16:06 -0500 (Tue, 04 Feb 2025) EndedAt: 2025-02-04 08:16:49 -0500 (Tue, 04 Feb 2025) EllapsedTime: 43.4 seconds RetCode: 0 Status: OK PackageFile: consICA_2.4.0.zip PackageFileSize: 2.858 MiB