Package: consICA Version: 2.4.0 Command: /Library/Frameworks/R.framework/Resources/bin/R CMD INSTALL consICA StartedAt: 2025-01-27 17:29:32 -0500 (Mon, 27 Jan 2025) EndedAt: 2025-01-27 17:30:09 -0500 (Mon, 27 Jan 2025) EllapsedTime: 36.9 seconds RetCode: 0 Status: OK