Package: consICA Version: 2.4.0 Maintainer: Petr V. Nazarov MaintainerEmail: petr.nazarov at lih.lu git_url: https://git.bioconductor.org/packages/consICA git_branch: RELEASE_3_20 git_last_commit: 2a96b62 git_last_commit_date: 2024-10-29 11:14:13 -0500 (Tue, 29 Oct 2024)