Package: condiments Version: 1.14.0 Command: /home/biocbuild/R/R/bin/R CMD INSTALL condiments StartedAt: 2025-03-31 21:05:51 -0000 (Mon, 31 Mar 2025) EndedAt: 2025-03-31 21:06:34 -0000 (Mon, 31 Mar 2025) EllapsedTime: 42.9 seconds RetCode: 0 Status: OK