Package: condiments Version: 1.14.0 Command: /home/biocbuild/bbs-3.20-bioc/R/bin/R CMD INSTALL condiments StartedAt: 2025-01-30 15:55:43 -0500 (Thu, 30 Jan 2025) EndedAt: 2025-01-30 15:56:22 -0500 (Thu, 30 Jan 2025) EllapsedTime: 39.7 seconds RetCode: 0 Status: OK