Package: condiments Version: 1.14.0 Command: /home/biocbuild/bbs-3.20-bioc/R/bin/R CMD build --keep-empty-dirs --no-resave-data --md5 condiments StartedAt: 2025-01-30 16:47:51 -0500 (Thu, 30 Jan 2025) EndedAt: 2025-01-30 16:50:59 -0500 (Thu, 30 Jan 2025) EllapsedTime: 187.2 seconds RetCode: 0 Status: OK PackageFile: condiments_1.14.0.tar.gz PackageFileSize: 2.002 MiB