Package: condiments Version: 1.14.0 Command: /Library/Frameworks/R.framework/Resources/bin/R CMD build --keep-empty-dirs --no-resave-data condiments StartedAt: 2025-01-30 21:26:14 -0500 (Thu, 30 Jan 2025) EndedAt: 2025-01-30 21:29:52 -0500 (Thu, 30 Jan 2025) EllapsedTime: 218.4 seconds RetCode: 0 Status: OK PackageFile: condiments_1.14.0.tar.gz PackageFileSize: 2.251 MiB