Package: concordexR Version: 1.6.0 Command: /home/biocbuild/R/R/bin/R CMD build --keep-empty-dirs --no-resave-data concordexR StartedAt: 2025-02-03 22:47:40 -0000 (Mon, 03 Feb 2025) EndedAt: 2025-02-03 22:49:33 -0000 (Mon, 03 Feb 2025) EllapsedTime: 113.0 seconds RetCode: 1 Status: ERROR PackageFile: None PackageFileSize: NA