Package: concordexR Version: 1.6.0 Command: /Library/Frameworks/R.framework/Resources/bin/R CMD INSTALL concordexR StartedAt: 2024-11-19 15:23:00 -0500 (Tue, 19 Nov 2024) EndedAt: 2024-11-19 15:23:35 -0500 (Tue, 19 Nov 2024) EllapsedTime: 34.7 seconds RetCode: 0 Status: OK