Package: compcodeR Version: 1.42.0 Command: /home/biocbuild/R/R/bin/R CMD INSTALL compcodeR StartedAt: 2025-01-30 20:40:01 -0000 (Thu, 30 Jan 2025) EndedAt: 2025-01-30 20:40:16 -0000 (Thu, 30 Jan 2025) EllapsedTime: 15.1 seconds RetCode: 0 Status: OK