Package: compcodeR Version: 1.42.0 Command: /home/biocbuild/R/R/bin/R CMD check --install=check:compcodeR.install-out.txt --library=/home/biocbuild/R/R/site-library --no-vignettes --timings compcodeR_1.42.0.tar.gz StartedAt: 2025-04-01 05:18:36 -0000 (Tue, 01 Apr 2025) EndedAt: 2025-04-01 05:25:46 -0000 (Tue, 01 Apr 2025) EllapsedTime: 429.3 seconds RetCode: 0 Status: OK CheckDir: compcodeR.Rcheck Warnings: 0