Package: compcodeR Version: 1.42.0 Command: /home/biocbuild/R/R/bin/R CMD build --keep-empty-dirs --no-resave-data compcodeR StartedAt: 2025-01-30 22:46:57 -0000 (Thu, 30 Jan 2025) EndedAt: 2025-01-30 22:47:24 -0000 (Thu, 30 Jan 2025) EllapsedTime: 27.0 seconds RetCode: 0 Status: OK PackageFile: compcodeR_1.42.0.tar.gz PackageFileSize: 4.745 MiB